BEGIN:VCALENDAR
VERSION:2.0
PRODID:icalendar-ruby
CALSCALE:GREGORIAN
METHOD:PUBLISH
BEGIN:VEVENT
DTSTAMP:20260421T091205Z
UID:13-74@decorahlutheran.tithelysetup2.com
DTSTART;VALUE=DATE:20250925
DTEND;VALUE=DATE:20251005
CLASS:PUBLIC
CREATED:20250925T093916
DESCRIPTION:
LAST-MODIFIED:20250925T093916
LOCATION:
SUMMARY:Ministry Minute
URL;VALUE=URI:https://decorahlutheran.org/events/ministry-minute/2025-09-25
ATTACH;FILENAME=Screenshot-2025-09-13-114805.png;FMTTYPE=image/png:https://
 dq5pwpg1q8ru0.cloudfront.net/2025/09/25/14/39/16/708a88f3-7b1c-4b8a-9957-a
 49644cb04bb/Screenshot-2025-09-13-114805.png
END:VEVENT
END:VCALENDAR
